BEGIN:VCALENDAR
VERSION:2.0
PRODID:-//Ville de Haisnes - ECPv6.15.20//NONSGML v1.0//EN
CALSCALE:GREGORIAN
METHOD:PUBLISH
X-WR-CALNAME:Ville de Haisnes
X-ORIGINAL-URL:https://villedehaisnes.fr
X-WR-CALDESC:Évènements pour Ville de Haisnes
REFRESH-INTERVAL;VALUE=DURATION:PT1H
X-Robots-Tag:noindex
X-PUBLISHED-TTL:PT1H
BEGIN:VTIMEZONE
TZID:Europe/Paris
BEGIN:DAYLIGHT
TZOFFSETFROM:+0100
TZOFFSETTO:+0200
TZNAME:CEST
DTSTART:20230326T010000
END:DAYLIGHT
BEGIN:STANDARD
TZOFFSETFROM:+0200
TZOFFSETTO:+0100
TZNAME:CET
DTSTART:20231029T010000
END:STANDARD
BEGIN:DAYLIGHT
TZOFFSETFROM:+0100
TZOFFSETTO:+0200
TZNAME:CEST
DTSTART:20240331T010000
END:DAYLIGHT
BEGIN:STANDARD
TZOFFSETFROM:+0200
TZOFFSETTO:+0100
TZNAME:CET
DTSTART:20241027T010000
END:STANDARD
BEGIN:DAYLIGHT
TZOFFSETFROM:+0100
TZOFFSETTO:+0200
TZNAME:CEST
DTSTART:20250330T010000
END:DAYLIGHT
BEGIN:STANDARD
TZOFFSETFROM:+0200
TZOFFSETTO:+0100
TZNAME:CET
DTSTART:20251026T010000
END:STANDARD
END:VTIMEZONE
BEGIN:VEVENT
DTSTART;TZID=Europe/Paris:20240203T100000
DTEND;TZID=Europe/Paris:20240204T180000
DTSTAMP:20260425T174328
CREATED:20240122T141224Z
LAST-MODIFIED:20240122T141439Z
UID:7495-1706954400-1707069600@villedehaisnes.fr
SUMMARY:Exposition Peintures & Photos - Culture pour tous
DESCRIPTION:
URL:https://villedehaisnes.fr/evenement/exposition-peintures-photos-culture-pour-tous/
LOCATION:Salle O. DANCOISNE – Rue Roger Salengro – 62138 HAISNES\, Rue Roger Salengro\, HAISNES\, 62138\, France
CATEGORIES:Association
ATTACH;FMTTYPE=image/png:https://villedehaisnes.fr/wp-content/uploads/2024/01/1-2.png
END:VEVENT
BEGIN:VEVENT
DTSTART;TZID=Europe/Paris:20240203T190000
DTEND;TZID=Europe/Paris:20240203T233000
DTSTAMP:20260425T174328
CREATED:20240110T105056Z
LAST-MODIFIED:20240110T105058Z
UID:7159-1706986800-1707003000@villedehaisnes.fr
SUMMARY:Repas Dansant - La Boule Haisnoise
DESCRIPTION:
URL:https://villedehaisnes.fr/evenement/repas-dansant-la-boule-haisnoise/
LOCATION:Salle Edmond Tanière\, rue de l'Yser\, HAISNES\, 62138
CATEGORIES:Association
ATTACH;FMTTYPE=image/jpeg:https://villedehaisnes.fr/wp-content/uploads/2024/01/Boule-haisnoise.jpg
END:VEVENT
END:VCALENDAR