BEGIN:VCALENDAR
VERSION:2.0
PRODID:-//Ville de Haisnes - ECPv6.15.20//NONSGML v1.0//EN
CALSCALE:GREGORIAN
METHOD:PUBLISH
X-WR-CALNAME:Ville de Haisnes
X-ORIGINAL-URL:https://villedehaisnes.fr
X-WR-CALDESC:Évènements pour Ville de Haisnes
REFRESH-INTERVAL;VALUE=DURATION:PT1H
X-Robots-Tag:noindex
X-PUBLISHED-TTL:PT1H
BEGIN:VTIMEZONE
TZID:Europe/Paris
BEGIN:DAYLIGHT
TZOFFSETFROM:+0100
TZOFFSETTO:+0200
TZNAME:CEST
DTSTART:20230326T010000
END:DAYLIGHT
BEGIN:STANDARD
TZOFFSETFROM:+0200
TZOFFSETTO:+0100
TZNAME:CET
DTSTART:20231029T010000
END:STANDARD
BEGIN:DAYLIGHT
TZOFFSETFROM:+0100
TZOFFSETTO:+0200
TZNAME:CEST
DTSTART:20240331T010000
END:DAYLIGHT
BEGIN:STANDARD
TZOFFSETFROM:+0200
TZOFFSETTO:+0100
TZNAME:CET
DTSTART:20241027T010000
END:STANDARD
BEGIN:DAYLIGHT
TZOFFSETFROM:+0100
TZOFFSETTO:+0200
TZNAME:CEST
DTSTART:20250330T010000
END:DAYLIGHT
BEGIN:STANDARD
TZOFFSETFROM:+0200
TZOFFSETTO:+0100
TZNAME:CET
DTSTART:20251026T010000
END:STANDARD
END:VTIMEZONE
BEGIN:VEVENT
DTSTART;TZID=Europe/Paris:20240309T090000
DTEND;TZID=Europe/Paris:20240309T170000
DTSTAMP:20260425T160231
CREATED:20240219T081614Z
LAST-MODIFIED:20240219T090321Z
UID:8353-1709974800-1710003600@villedehaisnes.fr
SUMMARY:Marché aux puces - Miss Tonics
DESCRIPTION:
URL:https://villedehaisnes.fr/evenement/marche-aux-puces-miss-tonics/
LOCATION:Salle O. DANCOISNE – Rue Roger Salengro – 62138 HAISNES\, Rue Roger Salengro\, HAISNES\, 62138\, France
CATEGORIES:Association
ATTACH;FMTTYPE=image/jpeg:https://villedehaisnes.fr/wp-content/uploads/2024/02/miss-tonics.jpg
END:VEVENT
END:VCALENDAR