BEGIN:VCALENDAR
VERSION:2.0
PRODID:-//Ville de Haisnes - ECPv6.15.20//NONSGML v1.0//EN
CALSCALE:GREGORIAN
METHOD:PUBLISH
X-ORIGINAL-URL:https://villedehaisnes.fr
X-WR-CALDESC:Évènements pour Ville de Haisnes
REFRESH-INTERVAL;VALUE=DURATION:PT1H
X-Robots-Tag:noindex
X-PUBLISHED-TTL:PT1H
BEGIN:VTIMEZONE
TZID:Europe/Paris
BEGIN:DAYLIGHT
TZOFFSETFROM:+0100
TZOFFSETTO:+0200
TZNAME:CEST
DTSTART:20230326T010000
END:DAYLIGHT
BEGIN:STANDARD
TZOFFSETFROM:+0200
TZOFFSETTO:+0100
TZNAME:CET
DTSTART:20231029T010000
END:STANDARD
BEGIN:DAYLIGHT
TZOFFSETFROM:+0100
TZOFFSETTO:+0200
TZNAME:CEST
DTSTART:20240331T010000
END:DAYLIGHT
BEGIN:STANDARD
TZOFFSETFROM:+0200
TZOFFSETTO:+0100
TZNAME:CET
DTSTART:20241027T010000
END:STANDARD
BEGIN:DAYLIGHT
TZOFFSETFROM:+0100
TZOFFSETTO:+0200
TZNAME:CEST
DTSTART:20250330T010000
END:DAYLIGHT
BEGIN:STANDARD
TZOFFSETFROM:+0200
TZOFFSETTO:+0100
TZNAME:CET
DTSTART:20251026T010000
END:STANDARD
END:VTIMEZONE
BEGIN:VEVENT
DTSTART;TZID=Europe/Paris:20240420T080000
DTEND;TZID=Europe/Paris:20240420T120000
DTSTAMP:20260425T160318
CREATED:20240408T094018Z
LAST-MODIFIED:20240408T094020Z
UID:11192-1713600000-1713614400@villedehaisnes.fr
SUMMARY:Concours de pêche - l'Amicale des Pêcheurs
DESCRIPTION:
URL:https://villedehaisnes.fr/evenement/concours-de-peche-lamicale-des-pecheurs/
LOCATION:Fosse 6 – Haisnes
CATEGORIES:Association
ATTACH;FMTTYPE=image/jpeg:https://villedehaisnes.fr/wp-content/uploads/2024/04/IMG_20240406_200311-rotated.jpg
END:VEVENT
BEGIN:VEVENT
DTSTART;TZID=Europe/Paris:20240420T080000
DTEND;TZID=Europe/Paris:20240420T170000
DTSTAMP:20260425T160318
CREATED:20240417T142349Z
LAST-MODIFIED:20240417T143100Z
UID:11420-1713600000-1713632400@villedehaisnes.fr
SUMMARY:Compétition interne de Gymnastique Artistique - Haisnes R'Gym
DESCRIPTION:
URL:https://villedehaisnes.fr/evenement/competition-interne-de-gymnastique-artistique-haisnes-rgym-2/
CATEGORIES:Association
ATTACH;FMTTYPE=image/jpeg:https://villedehaisnes.fr/wp-content/uploads/2024/04/417591867_460210256343525_4824720674805725026_n-1.jpg
END:VEVENT
END:VCALENDAR