BEGIN:VCALENDAR
VERSION:2.0
PRODID:-//Ville de Haisnes - ECPv6.15.20//NONSGML v1.0//EN
CALSCALE:GREGORIAN
METHOD:PUBLISH
X-WR-CALNAME:Ville de Haisnes
X-ORIGINAL-URL:https://villedehaisnes.fr
X-WR-CALDESC:Évènements pour Ville de Haisnes
REFRESH-INTERVAL;VALUE=DURATION:PT1H
X-Robots-Tag:noindex
X-PUBLISHED-TTL:PT1H
BEGIN:VTIMEZONE
TZID:Europe/Paris
BEGIN:DAYLIGHT
TZOFFSETFROM:+0100
TZOFFSETTO:+0200
TZNAME:CEST
DTSTART:20230326T010000
END:DAYLIGHT
BEGIN:STANDARD
TZOFFSETFROM:+0200
TZOFFSETTO:+0100
TZNAME:CET
DTSTART:20231029T010000
END:STANDARD
BEGIN:DAYLIGHT
TZOFFSETFROM:+0100
TZOFFSETTO:+0200
TZNAME:CEST
DTSTART:20240331T010000
END:DAYLIGHT
BEGIN:STANDARD
TZOFFSETFROM:+0200
TZOFFSETTO:+0100
TZNAME:CET
DTSTART:20241027T010000
END:STANDARD
BEGIN:DAYLIGHT
TZOFFSETFROM:+0100
TZOFFSETTO:+0200
TZNAME:CEST
DTSTART:20250330T010000
END:DAYLIGHT
BEGIN:STANDARD
TZOFFSETFROM:+0200
TZOFFSETTO:+0100
TZNAME:CET
DTSTART:20251026T010000
END:STANDARD
END:VTIMEZONE
BEGIN:VEVENT
DTSTART;TZID=Europe/Paris:20240622T100000
DTEND;TZID=Europe/Paris:20240622T170000
DTSTAMP:20260423T171627
CREATED:20240617T085048Z
LAST-MODIFIED:20240617T085421Z
UID:14238-1719050400-1719075600@villedehaisnes.fr
SUMMARY:Portes-Ouvertes Centre Sportif - ASC
DESCRIPTION:
URL:https://villedehaisnes.fr/evenement/portes-ouvertes-centre-sportif-asc/
LOCATION:Centre sportif\, Rue du 8 mai 1945\, Haisnes\, 62138
CATEGORIES:Association
ATTACH;FMTTYPE=image/jpeg:https://villedehaisnes.fr/wp-content/uploads/2024/06/447770615_964247212369626_2263360034477218323_n.jpg
END:VEVENT
BEGIN:VEVENT
DTSTART;TZID=Europe/Paris:20240622T180000
DTEND;TZID=Europe/Paris:20240622T233000
DTSTAMP:20260423T171627
CREATED:20240617T084811Z
LAST-MODIFIED:20240617T084814Z
UID:14236-1719079200-1719099000@villedehaisnes.fr
SUMMARY:Gala de Danse - AIH DANSE
DESCRIPTION:
URL:https://villedehaisnes.fr/evenement/gala-de-danse-aih-danse/
LOCATION:Salle des sports QUEVA\, rue roger salengro\, Haisnes\, 62138\, France
CATEGORIES:Association
ATTACH;FMTTYPE=image/jpeg:https://villedehaisnes.fr/wp-content/uploads/2024/06/AIH-Danse-1.jpg
END:VEVENT
END:VCALENDAR