BEGIN:VCALENDAR
VERSION:2.0
PRODID:-//Ville de Haisnes - ECPv6.15.20//NONSGML v1.0//EN
CALSCALE:GREGORIAN
METHOD:PUBLISH
X-ORIGINAL-URL:https://villedehaisnes.fr
X-WR-CALDESC:Évènements pour Ville de Haisnes
REFRESH-INTERVAL;VALUE=DURATION:PT1H
X-Robots-Tag:noindex
X-PUBLISHED-TTL:PT1H
BEGIN:VTIMEZONE
TZID:Europe/Paris
BEGIN:DAYLIGHT
TZOFFSETFROM:+0100
TZOFFSETTO:+0200
TZNAME:CEST
DTSTART:20230326T010000
END:DAYLIGHT
BEGIN:STANDARD
TZOFFSETFROM:+0200
TZOFFSETTO:+0100
TZNAME:CET
DTSTART:20231029T010000
END:STANDARD
BEGIN:DAYLIGHT
TZOFFSETFROM:+0100
TZOFFSETTO:+0200
TZNAME:CEST
DTSTART:20240331T010000
END:DAYLIGHT
BEGIN:STANDARD
TZOFFSETFROM:+0200
TZOFFSETTO:+0100
TZNAME:CET
DTSTART:20241027T010000
END:STANDARD
BEGIN:DAYLIGHT
TZOFFSETFROM:+0100
TZOFFSETTO:+0200
TZNAME:CEST
DTSTART:20250330T010000
END:DAYLIGHT
BEGIN:STANDARD
TZOFFSETFROM:+0200
TZOFFSETTO:+0100
TZNAME:CET
DTSTART:20251026T010000
END:STANDARD
END:VTIMEZONE
BEGIN:VEVENT
DTSTART;TZID=Europe/Paris:20240901T100000
DTEND;TZID=Europe/Paris:20240901T120000
DTSTAMP:20260421T192303
CREATED:20240805T113003Z
LAST-MODIFIED:20240805T113007Z
UID:17774-1725184800-1725192000@villedehaisnes.fr
SUMMARY:L'inclusive Randonnée - RANDOSARTOIS
DESCRIPTION:
URL:https://villedehaisnes.fr/evenement/linclusive-randonnee-randosartois/
LOCATION:Salle O. DANCOISNE – Rue Roger Salengro – 62138 HAISNES\, Rue Roger Salengro\, HAISNES\, 62138\, France
CATEGORIES:Association
ATTACH;FMTTYPE=image/jpeg:https://villedehaisnes.fr/wp-content/uploads/2024/08/affiche_randonnee_inclusive_en__01.09.24-scaled.jpg
ORGANIZER;CN="RANDOSARTOIS":MAILTO:contact@associations62.org
END:VEVENT
END:VCALENDAR