BEGIN:VCALENDAR
VERSION:2.0
PRODID:-//Ville de Haisnes - ECPv6.15.20//NONSGML v1.0//EN
CALSCALE:GREGORIAN
METHOD:PUBLISH
X-ORIGINAL-URL:https://villedehaisnes.fr
X-WR-CALDESC:Évènements pour Ville de Haisnes
REFRESH-INTERVAL;VALUE=DURATION:PT1H
X-Robots-Tag:noindex
X-PUBLISHED-TTL:PT1H
BEGIN:VTIMEZONE
TZID:Europe/Paris
BEGIN:DAYLIGHT
TZOFFSETFROM:+0100
TZOFFSETTO:+0200
TZNAME:CEST
DTSTART:20230326T010000
END:DAYLIGHT
BEGIN:STANDARD
TZOFFSETFROM:+0200
TZOFFSETTO:+0100
TZNAME:CET
DTSTART:20231029T010000
END:STANDARD
BEGIN:DAYLIGHT
TZOFFSETFROM:+0100
TZOFFSETTO:+0200
TZNAME:CEST
DTSTART:20240331T010000
END:DAYLIGHT
BEGIN:STANDARD
TZOFFSETFROM:+0200
TZOFFSETTO:+0100
TZNAME:CET
DTSTART:20241027T010000
END:STANDARD
BEGIN:DAYLIGHT
TZOFFSETFROM:+0100
TZOFFSETTO:+0200
TZNAME:CEST
DTSTART:20250330T010000
END:DAYLIGHT
BEGIN:STANDARD
TZOFFSETFROM:+0200
TZOFFSETTO:+0100
TZNAME:CET
DTSTART:20251026T010000
END:STANDARD
END:VTIMEZONE
BEGIN:VEVENT
DTSTART;TZID=Europe/Paris:20241109T153000
DTEND;TZID=Europe/Paris:20241109T170000
DTSTAMP:20260421T192303
CREATED:20241104T084857Z
LAST-MODIFIED:20241104T084900Z
UID:20627-1731166200-1731171600@villedehaisnes.fr
SUMMARY:LECTURE SPECTACLE - Bibliothèque municipale / dès 3 ans
DESCRIPTION:
URL:https://villedehaisnes.fr/evenement/lecture-spectacle-bibliotheque-municipale-des-3-ans/
LOCATION:Bibliothèque Jacques Prévert\, rue Roger Salengro\, Haisnes\, 62138
CATEGORIES:Evénement communale
ATTACH;FMTTYPE=image/png:https://villedehaisnes.fr/wp-content/uploads/2024/10/lecturespectacle.png
END:VEVENT
END:VCALENDAR