BEGIN:VCALENDAR
VERSION:2.0
PRODID:-//Ville de Haisnes - ECPv6.15.20//NONSGML v1.0//EN
CALSCALE:GREGORIAN
METHOD:PUBLISH
X-ORIGINAL-URL:https://villedehaisnes.fr
X-WR-CALDESC:Évènements pour Ville de Haisnes
REFRESH-INTERVAL;VALUE=DURATION:PT1H
X-Robots-Tag:noindex
X-PUBLISHED-TTL:PT1H
BEGIN:VTIMEZONE
TZID:Europe/Paris
BEGIN:DAYLIGHT
TZOFFSETFROM:+0100
TZOFFSETTO:+0200
TZNAME:CEST
DTSTART:20230326T010000
END:DAYLIGHT
BEGIN:STANDARD
TZOFFSETFROM:+0200
TZOFFSETTO:+0100
TZNAME:CET
DTSTART:20231029T010000
END:STANDARD
BEGIN:DAYLIGHT
TZOFFSETFROM:+0100
TZOFFSETTO:+0200
TZNAME:CEST
DTSTART:20240331T010000
END:DAYLIGHT
BEGIN:STANDARD
TZOFFSETFROM:+0200
TZOFFSETTO:+0100
TZNAME:CET
DTSTART:20241027T010000
END:STANDARD
BEGIN:DAYLIGHT
TZOFFSETFROM:+0100
TZOFFSETTO:+0200
TZNAME:CEST
DTSTART:20250330T010000
END:DAYLIGHT
BEGIN:STANDARD
TZOFFSETFROM:+0200
TZOFFSETTO:+0100
TZNAME:CET
DTSTART:20251026T010000
END:STANDARD
END:VTIMEZONE
BEGIN:VEVENT
DTSTART;TZID=Europe/Paris:20241130T083000
DTEND;TZID=Europe/Paris:20241130T170000
DTSTAMP:20260421T143643
CREATED:20241014T114635Z
LAST-MODIFIED:20241021T094719Z
UID:19713-1732955400-1732986000@villedehaisnes.fr
SUMMARY:Marché aux Puces - AIH Danse
DESCRIPTION:
URL:https://villedehaisnes.fr/evenement/marche-aux-puces-aih-danse/
LOCATION:Salle O. DANCOISNE – Rue Roger Salengro – 62138 HAISNES\, Rue Roger Salengro\, HAISNES\, 62138\, France
CATEGORIES:Association
ATTACH;FMTTYPE=image/jpeg:https://villedehaisnes.fr/wp-content/uploads/2024/10/462686091_947611434076953_2276451021986245041_n.jpg
END:VEVENT
BEGIN:VEVENT
DTSTART;TZID=Europe/Paris:20241130T150000
DTEND;TZID=Europe/Paris:20241130T190000
DTSTAMP:20260421T143643
CREATED:20241106T105127Z
LAST-MODIFIED:20241106T105129Z
UID:20869-1732978800-1732993200@villedehaisnes.fr
SUMMARY:TÉLÉTHON 2024
DESCRIPTION:
URL:https://villedehaisnes.fr/evenement/telethon-2024/
LOCATION:Salle des sports QUEVA\, rue roger salengro\, Haisnes\, 62138\, France
CATEGORIES:Evénement communale,Sport - Santé
ATTACH;FMTTYPE=image/png:https://villedehaisnes.fr/wp-content/uploads/2024/11/affiche_telethon_haisnes_30.11.24.png
ORGANIZER;CN="Mairie de Haisnes":MAILTO:contact@ville-haisnes.fr
END:VEVENT
END:VCALENDAR