BEGIN:VCALENDAR
VERSION:2.0
PRODID:-//Ville de Haisnes - ECPv6.15.20//NONSGML v1.0//EN
CALSCALE:GREGORIAN
METHOD:PUBLISH
X-WR-CALNAME:Ville de Haisnes
X-ORIGINAL-URL:https://villedehaisnes.fr
X-WR-CALDESC:Évènements pour Ville de Haisnes
REFRESH-INTERVAL;VALUE=DURATION:PT1H
X-Robots-Tag:noindex
X-PUBLISHED-TTL:PT1H
BEGIN:VTIMEZONE
TZID:Europe/Paris
BEGIN:DAYLIGHT
TZOFFSETFROM:+0100
TZOFFSETTO:+0200
TZNAME:CEST
DTSTART:20230326T010000
END:DAYLIGHT
BEGIN:STANDARD
TZOFFSETFROM:+0200
TZOFFSETTO:+0100
TZNAME:CET
DTSTART:20231029T010000
END:STANDARD
BEGIN:DAYLIGHT
TZOFFSETFROM:+0100
TZOFFSETTO:+0200
TZNAME:CEST
DTSTART:20240331T010000
END:DAYLIGHT
BEGIN:STANDARD
TZOFFSETFROM:+0200
TZOFFSETTO:+0100
TZNAME:CET
DTSTART:20241027T010000
END:STANDARD
BEGIN:DAYLIGHT
TZOFFSETFROM:+0100
TZOFFSETTO:+0200
TZNAME:CEST
DTSTART:20250330T010000
END:DAYLIGHT
BEGIN:STANDARD
TZOFFSETFROM:+0200
TZOFFSETTO:+0100
TZNAME:CET
DTSTART:20251026T010000
END:STANDARD
END:VTIMEZONE
BEGIN:VEVENT
DTSTART;TZID=Europe/Paris:20240608T110000
DTEND;TZID=Europe/Paris:20240608T120000
DTSTAMP:20260422T213337
CREATED:20240529T083058Z
LAST-MODIFIED:20240529T083102Z
UID:13366-1717844400-1717848000@villedehaisnes.fr
SUMMARY:08 juin 2024 - Commémoration
DESCRIPTION:
URL:https://villedehaisnes.fr/evenement/08-juin-2024-commemoration/
LOCATION:Mairie de Haisnes\, Place Potel\, Haisnes\, 62138
CATEGORIES:Evénement communale
ATTACH;FMTTYPE=image/png:https://villedehaisnes.fr/wp-content/uploads/2024/05/08-juin-2024.png
END:VEVENT
BEGIN:VEVENT
DTSTART;TZID=Europe/Paris:20240613T133000
DTEND;TZID=Europe/Paris:20240613T160000
DTSTAMP:20260422T213337
CREATED:20240529T121248Z
LAST-MODIFIED:20240529T121253Z
UID:13400-1718285400-1718294400@villedehaisnes.fr
SUMMARY:Restitution du projet Jardin - Ecole Pierre Perret
DESCRIPTION:
URL:https://villedehaisnes.fr/evenement/restitution-du-projet-jardin-ecole-pierre-perret/
CATEGORIES:Association,Evénement communale
ATTACH;FMTTYPE=image/png:https://villedehaisnes.fr/wp-content/uploads/2024/05/RESTITUTION-ATELIER-POTAGER-13-JUIN-2024.png
END:VEVENT
BEGIN:VEVENT
DTSTART;TZID=Europe/Paris:20240615T100000
DTEND;TZID=Europe/Paris:20240615T180000
DTSTAMP:20260422T213337
CREATED:20240610T081639Z
LAST-MODIFIED:20240610T081641Z
UID:13745-1718445600-1718474400@villedehaisnes.fr
SUMMARY:Kermesse de Jules Andrieu
DESCRIPTION:
URL:https://villedehaisnes.fr/evenement/kermesse-de-jules-andrieu/
LOCATION:Salle O. DANCOISNE – Rue Roger Salengro – 62138 HAISNES\, Rue Roger Salengro\, HAISNES\, 62138\, France
CATEGORIES:Evénement communale
ATTACH;FMTTYPE=image/jpeg:https://villedehaisnes.fr/wp-content/uploads/2024/06/Kermesse-Jules-Andrieu.jpg
END:VEVENT
BEGIN:VEVENT
DTSTART;TZID=Europe/Paris:20240618T110000
DTEND;TZID=Europe/Paris:20240618T113000
DTSTAMP:20260422T213337
CREATED:20240610T081444Z
LAST-MODIFIED:20240610T081447Z
UID:13743-1718708400-1718710200@villedehaisnes.fr
SUMMARY:Cérémonie de l’Appel Historique
DESCRIPTION:
URL:https://villedehaisnes.fr/evenement/ceremonie-de-lappel-historique/
CATEGORIES:Evénement communale
ATTACH;FMTTYPE=image/png:https://villedehaisnes.fr/wp-content/uploads/2024/06/18-juin-2024.png
END:VEVENT
BEGIN:VEVENT
DTSTART;TZID=Europe/Paris:20240619T130000
DTEND;TZID=Europe/Paris:20240619T183000
DTSTAMP:20260422T213337
CREATED:20240622T080026Z
LAST-MODIFIED:20240617T085325Z
UID:14231-1718802000-1718821800@villedehaisnes.fr
SUMMARY:Les Olympiades de la Jeunesse Haisnoise
DESCRIPTION:
URL:https://villedehaisnes.fr/evenement/les-olympiades-de-la-jeunesse-haisnoise/
LOCATION:Quartier Saint Élie\, rue de l'Yser\, HAISNES\, 62138
CATEGORIES:Evénement communale,Sport - Santé
ATTACH;FMTTYPE=image/png:https://villedehaisnes.fr/wp-content/uploads/2024/06/couverture_depliant_ojh_recto_1.png
END:VEVENT
END:VCALENDAR