BEGIN:VCALENDAR
VERSION:2.0
PRODID:-//Ville de Haisnes - ECPv6.15.20//NONSGML v1.0//EN
CALSCALE:GREGORIAN
METHOD:PUBLISH
X-ORIGINAL-URL:https://villedehaisnes.fr
X-WR-CALDESC:Évènements pour Ville de Haisnes
REFRESH-INTERVAL;VALUE=DURATION:PT1H
X-Robots-Tag:noindex
X-PUBLISHED-TTL:PT1H
BEGIN:VTIMEZONE
TZID:Europe/Paris
BEGIN:DAYLIGHT
TZOFFSETFROM:+0100
TZOFFSETTO:+0200
TZNAME:CEST
DTSTART:20230326T010000
END:DAYLIGHT
BEGIN:STANDARD
TZOFFSETFROM:+0200
TZOFFSETTO:+0100
TZNAME:CET
DTSTART:20231029T010000
END:STANDARD
BEGIN:DAYLIGHT
TZOFFSETFROM:+0100
TZOFFSETTO:+0200
TZNAME:CEST
DTSTART:20240331T010000
END:DAYLIGHT
BEGIN:STANDARD
TZOFFSETFROM:+0200
TZOFFSETTO:+0100
TZNAME:CET
DTSTART:20241027T010000
END:STANDARD
BEGIN:DAYLIGHT
TZOFFSETFROM:+0100
TZOFFSETTO:+0200
TZNAME:CEST
DTSTART:20250330T010000
END:DAYLIGHT
BEGIN:STANDARD
TZOFFSETFROM:+0200
TZOFFSETTO:+0100
TZNAME:CET
DTSTART:20251026T010000
END:STANDARD
END:VTIMEZONE
BEGIN:VEVENT
DTSTART;TZID=Europe/Paris:20241129T083000
DTEND;TZID=Europe/Paris:20241129T170000
DTSTAMP:20260422T181729
CREATED:20241126T085616Z
LAST-MODIFIED:20241126T085621Z
UID:22283-1732869000-1732899600@villedehaisnes.fr
SUMMARY:Passage du lutin et l'âne du Père Noël
DESCRIPTION:
URL:https://villedehaisnes.fr/evenement/passage-du-lutin-et-lane-du-pere-noel/
CATEGORIES:Association,Evénement communale,Jeunesse
ATTACH;FMTTYPE=image/png:https://villedehaisnes.fr/wp-content/uploads/2024/11/lutin-dans-les-ecoles.png
END:VEVENT
END:VCALENDAR