BEGIN:VCALENDAR
VERSION:2.0
PRODID:-//Ville de Haisnes - ECPv6.15.20//NONSGML v1.0//EN
CALSCALE:GREGORIAN
METHOD:PUBLISH
X-WR-CALNAME:Ville de Haisnes
X-ORIGINAL-URL:https://villedehaisnes.fr
X-WR-CALDESC:Évènements pour Ville de Haisnes
REFRESH-INTERVAL;VALUE=DURATION:PT1H
X-Robots-Tag:noindex
X-PUBLISHED-TTL:PT1H
BEGIN:VTIMEZONE
TZID:Europe/Paris
BEGIN:DAYLIGHT
TZOFFSETFROM:+0100
TZOFFSETTO:+0200
TZNAME:CEST
DTSTART:20230326T010000
END:DAYLIGHT
BEGIN:STANDARD
TZOFFSETFROM:+0200
TZOFFSETTO:+0100
TZNAME:CET
DTSTART:20231029T010000
END:STANDARD
BEGIN:DAYLIGHT
TZOFFSETFROM:+0100
TZOFFSETTO:+0200
TZNAME:CEST
DTSTART:20240331T010000
END:DAYLIGHT
BEGIN:STANDARD
TZOFFSETFROM:+0200
TZOFFSETTO:+0100
TZNAME:CET
DTSTART:20241027T010000
END:STANDARD
BEGIN:DAYLIGHT
TZOFFSETFROM:+0100
TZOFFSETTO:+0200
TZNAME:CEST
DTSTART:20250330T010000
END:DAYLIGHT
BEGIN:STANDARD
TZOFFSETFROM:+0200
TZOFFSETTO:+0100
TZNAME:CET
DTSTART:20251026T010000
END:STANDARD
END:VTIMEZONE
BEGIN:VEVENT
DTSTART;TZID=Europe/Paris:20240106T090000
DTEND;TZID=Europe/Paris:20240106T170000
DTSTAMP:20260425T175146
CREATED:20231113T145538Z
LAST-MODIFIED:20231204T095610Z
UID:5324-1704531600-1704560400@villedehaisnes.fr
SUMMARY:Tournoi Futsal - ESH
DESCRIPTION:
URL:https://villedehaisnes.fr/evenement/tournoi-futsal-esh/
LOCATION:Salle des sports QUEVA\, rue roger salengro\, Haisnes\, 62138\, France
CATEGORIES:Association
ATTACH;FMTTYPE=image/jpeg:https://villedehaisnes.fr/wp-content/uploads/2023/11/400900150_1719845028523223_6098794930899785507_n.jpg
END:VEVENT
BEGIN:VEVENT
DTSTART;TZID=Europe/Paris:20240113T190000
DTEND;TZID=Europe/Paris:20240113T233000
DTSTAMP:20260425T175146
CREATED:20231204T095138Z
LAST-MODIFIED:20231204T095140Z
UID:6084-1705172400-1705188600@villedehaisnes.fr
SUMMARY:Karaoké Night Party - APE grandes canailles
DESCRIPTION:
URL:https://villedehaisnes.fr/evenement/karaoke-night-party-ape-grandes-canailles/
CATEGORIES:Association
ATTACH;FMTTYPE=image/jpeg:https://villedehaisnes.fr/wp-content/uploads/2023/12/402543357_1723417654832627_5690088776012228203_n.jpg
END:VEVENT
BEGIN:VEVENT
DTSTART;TZID=Europe/Paris:20240114T120000
DTEND;TZID=Europe/Paris:20240114T200000
DTSTAMP:20260425T175146
CREATED:20231204T095350Z
LAST-MODIFIED:20231204T095513Z
UID:6091-1705233600-1705262400@villedehaisnes.fr
SUMMARY:MÉGA LOTO - APE grandes canailles
DESCRIPTION:
URL:https://villedehaisnes.fr/evenement/mega-loto-ape-grandes-canailles/
CATEGORIES:Association
ATTACH;FMTTYPE=image/jpeg:https://villedehaisnes.fr/wp-content/uploads/2023/11/402496563_1723417581499301_3319911090649714250_n.jpg
END:VEVENT
BEGIN:VEVENT
DTSTART;TZID=Europe/Paris:20240118T090000
DTEND;TZID=Europe/Paris:20240118T100000
DTSTAMP:20260425T175146
CREATED:20240117T092309Z
LAST-MODIFIED:20240117T092914Z
UID:7298-1705568400-1705572000@villedehaisnes.fr
SUMMARY:Séance Sport Santé Bien-Etre
DESCRIPTION:Tous les jeudi matins à la salle Tanière
URL:https://villedehaisnes.fr/evenement/seance-sport-sante-bien-etre/
CATEGORIES:Sport - Santé
ATTACH;FMTTYPE=image/png:https://villedehaisnes.fr/wp-content/uploads/2024/01/tract_a4_apa_ufolep_haisnes.png
END:VEVENT
BEGIN:VEVENT
DTSTART;TZID=Europe/Paris:20240119T183000
DTEND;TZID=Europe/Paris:20240119T203000
DTSTAMP:20260425T175146
CREATED:20240110T102136Z
LAST-MODIFIED:20240110T102138Z
UID:7146-1705689000-1705696200@villedehaisnes.fr
SUMMARY:Cérémonie des Vœux 2024
DESCRIPTION:Ouverture des portes à partir de 18h00
URL:https://villedehaisnes.fr/evenement/ceremonie-des-voeux-2024/
LOCATION:Salle O. DANCOISNE – Rue Roger Salengro – 62138 HAISNES\, Rue Roger Salengro\, HAISNES\, 62138\, France
CATEGORIES:Evénement communale
ATTACH;FMTTYPE=image/jpeg:https://villedehaisnes.fr/wp-content/uploads/2024/01/ceremonie-des-voeux-2024-scaled.jpg
END:VEVENT
BEGIN:VEVENT
DTSTART;TZID=Europe/Paris:20240120T143000
DTEND;TZID=Europe/Paris:20240120T180000
DTSTAMP:20260425T175146
CREATED:20240110T103706Z
LAST-MODIFIED:20240110T104305Z
UID:7151-1705761000-1705773600@villedehaisnes.fr
SUMMARY:Après-Midi jeux de société - Haisnes R'GYM
DESCRIPTION:
URL:https://villedehaisnes.fr/evenement/apres-midi-jeux-de-societe-haisnes-rgym/
LOCATION:Salle O. DANCOISNE – Rue Roger Salengro – 62138 HAISNES\, Rue Roger Salengro\, HAISNES\, 62138\, France
CATEGORIES:Association
ATTACH;FMTTYPE=image/jpeg:https://villedehaisnes.fr/wp-content/uploads/2024/01/Rhaisnes-Gym.jpg
END:VEVENT
BEGIN:VEVENT
DTSTART;TZID=Europe/Paris:20240120T180000
DTEND;TZID=Europe/Paris:20240120T200000
DTSTAMP:20260425T175146
CREATED:20240110T102917Z
LAST-MODIFIED:20240110T103057Z
UID:7149-1705773600-1705780800@villedehaisnes.fr
SUMMARY:LUMIGAME - Haisnes R'GYM
DESCRIPTION:
URL:https://villedehaisnes.fr/evenement/lumigame-haisnes-rgym/
LOCATION:Salle des sports QUEVA\, rue roger salengro\, Haisnes\, 62138\, France
CATEGORIES:Association
ATTACH;FMTTYPE=image/jpeg:https://villedehaisnes.fr/wp-content/uploads/2024/01/414547819_7384819934883792_7342857569658771714_n.jpg
END:VEVENT
BEGIN:VEVENT
DTSTART;TZID=Europe/Paris:20240124T100000
DTEND;TZID=Europe/Paris:20240124T120000
DTSTAMP:20260425T175146
CREATED:20240117T091908Z
LAST-MODIFIED:20240117T091910Z
UID:7295-1706090400-1706097600@villedehaisnes.fr
SUMMARY:Animation Sophrologie Contée - Bibliothèque Municipale
DESCRIPTION:
URL:https://villedehaisnes.fr/evenement/animation-sophrologie-contee-bibliotheque-municipale/
ATTACH;FMTTYPE=image/png:https://villedehaisnes.fr/wp-content/uploads/2024/01/received_386734667219257.png
END:VEVENT
BEGIN:VEVENT
DTSTART;TZID=Europe/Paris:20240127T190000
DTEND;TZID=Europe/Paris:20240127T233000
DTSTAMP:20260425T175146
CREATED:20240110T104538Z
LAST-MODIFIED:20240110T104540Z
UID:7154-1706382000-1706398200@villedehaisnes.fr
SUMMARY:Repas dansant annuel - AIH DANSE
DESCRIPTION:
URL:https://villedehaisnes.fr/evenement/repas-dansant-annuel-aih-danse/
LOCATION:Salle O. DANCOISNE – Rue Roger Salengro – 62138 HAISNES\, Rue Roger Salengro\, HAISNES\, 62138\, France
CATEGORIES:Association
ATTACH;FMTTYPE=image/jpeg:https://villedehaisnes.fr/wp-content/uploads/2024/01/AIH-DANSE.jpg
END:VEVENT
END:VCALENDAR