BEGIN:VCALENDAR
VERSION:2.0
PRODID:-//Ville de Haisnes - ECPv6.15.20//NONSGML v1.0//EN
CALSCALE:GREGORIAN
METHOD:PUBLISH
X-ORIGINAL-URL:https://villedehaisnes.fr
X-WR-CALDESC:Évènements pour Ville de Haisnes
REFRESH-INTERVAL;VALUE=DURATION:PT1H
X-Robots-Tag:noindex
X-PUBLISHED-TTL:PT1H
BEGIN:VTIMEZONE
TZID:Europe/Paris
BEGIN:DAYLIGHT
TZOFFSETFROM:+0100
TZOFFSETTO:+0200
TZNAME:CEST
DTSTART:20230326T010000
END:DAYLIGHT
BEGIN:STANDARD
TZOFFSETFROM:+0200
TZOFFSETTO:+0100
TZNAME:CET
DTSTART:20231029T010000
END:STANDARD
BEGIN:DAYLIGHT
TZOFFSETFROM:+0100
TZOFFSETTO:+0200
TZNAME:CEST
DTSTART:20240331T010000
END:DAYLIGHT
BEGIN:STANDARD
TZOFFSETFROM:+0200
TZOFFSETTO:+0100
TZNAME:CET
DTSTART:20241027T010000
END:STANDARD
BEGIN:DAYLIGHT
TZOFFSETFROM:+0100
TZOFFSETTO:+0200
TZNAME:CEST
DTSTART:20250330T010000
END:DAYLIGHT
BEGIN:STANDARD
TZOFFSETFROM:+0200
TZOFFSETTO:+0100
TZNAME:CET
DTSTART:20251026T010000
END:STANDARD
END:VTIMEZONE
BEGIN:VEVENT
DTSTART;TZID=Europe/Paris:20240505T080000
DTEND;TZID=Europe/Paris:20240505T170000
DTSTAMP:20260423T171853
CREATED:20240417T142643Z
LAST-MODIFIED:20240417T143233Z
UID:11427-1714896000-1714928400@villedehaisnes.fr
SUMMARY:Marché aux Puces - Comité des fêtes
DESCRIPTION:
URL:https://villedehaisnes.fr/evenement/marche-aux-puces-comite-des-fetes/
CATEGORIES:Comité des Fêtes
ATTACH;FMTTYPE=image/jpeg:https://villedehaisnes.fr/wp-content/uploads/2024/04/marche-puces-2024-MAI-1.jpg
END:VEVENT
BEGIN:VEVENT
DTSTART;TZID=Europe/Paris:20240505T110000
DTEND;TZID=Europe/Paris:20240505T200000
DTSTAMP:20260423T171853
CREATED:20240417T142516Z
LAST-MODIFIED:20240417T143208Z
UID:11424-1714906800-1714939200@villedehaisnes.fr
SUMMARY:MEGA LOTO - APE des grandes canailles
DESCRIPTION:
URL:https://villedehaisnes.fr/evenement/mega-loto-ape-des-grandes-canailles/
LOCATION:Salle O. DANCOISNE – Rue Roger Salengro – 62138 HAISNES\, Rue Roger Salengro\, HAISNES\, 62138\, France
CATEGORIES:Association
ATTACH;FMTTYPE=image/jpeg:https://villedehaisnes.fr/wp-content/uploads/2024/04/433969517_727566726241854_5228605197897514417_n-1.jpg
END:VEVENT
BEGIN:VEVENT
DTSTART;TZID=Europe/Paris:20240505T150000
DTEND;TZID=Europe/Paris:20240505T200000
DTSTAMP:20260423T171853
CREATED:20240429T080558Z
LAST-MODIFIED:20240429T080600Z
UID:12159-1714921200-1714939200@villedehaisnes.fr
SUMMARY:Concours de pétanque - La Boule Haisnoise
DESCRIPTION:
URL:https://villedehaisnes.fr/evenement/concours-de-petanque-la-boule-haisnoise/
LOCATION:Place Élie Reumaux 62138 HAISNES\, Place Élie Reumaux\, HAISNES\, France
CATEGORIES:Association
ATTACH;FMTTYPE=image/jpeg:https://villedehaisnes.fr/wp-content/uploads/2024/04/la-boule-haisnoise.jpg
END:VEVENT
BEGIN:VEVENT
DTSTART;TZID=Europe/Paris:20240508T110000
DTEND;TZID=Europe/Paris:20240508T130000
DTSTAMP:20260423T171853
CREATED:20240417T143000Z
LAST-MODIFIED:20240417T143003Z
UID:11433-1715166000-1715173200@villedehaisnes.fr
SUMMARY:Cérémonie du 8 mai 2024
DESCRIPTION:
URL:https://villedehaisnes.fr/evenement/ceremonie-du-8-mai-2024/
LOCATION:Mairie de Haisnes\, Place Potel 62138 HAISNES
CATEGORIES:Evénement communale
ATTACH;FMTTYPE=image/png:https://villedehaisnes.fr/wp-content/uploads/2024/04/8-mai-2024.png
END:VEVENT
BEGIN:VEVENT
DTSTART;TZID=Europe/Paris:20240512T113000
DTEND;TZID=Europe/Paris:20240512T200000
DTSTAMP:20260423T171853
CREATED:20240417T142816Z
LAST-MODIFIED:20240417T143133Z
UID:11430-1715513400-1715544000@villedehaisnes.fr
SUMMARY:LOTO - Une Famille de Mamans
DESCRIPTION:
URL:https://villedehaisnes.fr/evenement/loto-une-famille-de-mamans-2/
LOCATION:Salle O. DANCOISNE – Rue Roger Salengro – 62138 HAISNES\, Rue Roger Salengro\, HAISNES\, 62138\, France
CATEGORIES:Association
ATTACH;FMTTYPE=image/png:https://villedehaisnes.fr/wp-content/uploads/2024/04/loto-maman.png
END:VEVENT
BEGIN:VEVENT
DTSTART;TZID=Europe/Paris:20240530T140000
DTEND;TZID=Europe/Paris:20240530T160000
DTSTAMP:20260423T171853
CREATED:20240515T083504Z
LAST-MODIFIED:20240515T135516Z
UID:12798-1717077600-1717084800@villedehaisnes.fr
SUMMARY:Atelier Alimentation Nutrition Santé
DESCRIPTION:
URL:https://villedehaisnes.fr/evenement/atelier-alimentation-nutrition-sante/
LOCATION:Salle E. Tanière\, Rue de l'Yser\, HAISNES
CATEGORIES:Prévention,Sport - Santé
ATTACH;FMTTYPE=image/png:https://villedehaisnes.fr/wp-content/uploads/2024/05/tract_atelier_alimentation_nutrition_sante_prevart.png
END:VEVENT
BEGIN:VEVENT
DTSTART;TZID=Europe/Paris:20240531T180000
DTEND;TZID=Europe/Paris:20240531T233000
DTSTAMP:20260423T171853
CREATED:20240529T083305Z
LAST-MODIFIED:20240529T083309Z
UID:13380-1717178400-1717198200@villedehaisnes.fr
SUMMARY:Fête des Voisins
DESCRIPTION:
URL:https://villedehaisnes.fr/evenement/fete-des-voisins/
CATEGORIES:Evénement communale
ATTACH;FMTTYPE=image/jpeg:https://villedehaisnes.fr/wp-content/uploads/2024/05/Fete-des-voisins-2024-1-scaled.jpg
END:VEVENT
END:VCALENDAR