BEGIN:VCALENDAR
VERSION:2.0
PRODID:-//Ville de Haisnes - ECPv6.15.20//NONSGML v1.0//EN
CALSCALE:GREGORIAN
METHOD:PUBLISH
X-ORIGINAL-URL:https://villedehaisnes.fr
X-WR-CALDESC:Évènements pour Ville de Haisnes
REFRESH-INTERVAL;VALUE=DURATION:PT1H
X-Robots-Tag:noindex
X-PUBLISHED-TTL:PT1H
BEGIN:VTIMEZONE
TZID:Europe/Paris
BEGIN:DAYLIGHT
TZOFFSETFROM:+0100
TZOFFSETTO:+0200
TZNAME:CEST
DTSTART:20230326T010000
END:DAYLIGHT
BEGIN:STANDARD
TZOFFSETFROM:+0200
TZOFFSETTO:+0100
TZNAME:CET
DTSTART:20231029T010000
END:STANDARD
BEGIN:DAYLIGHT
TZOFFSETFROM:+0100
TZOFFSETTO:+0200
TZNAME:CEST
DTSTART:20240331T010000
END:DAYLIGHT
BEGIN:STANDARD
TZOFFSETFROM:+0200
TZOFFSETTO:+0100
TZNAME:CET
DTSTART:20241027T010000
END:STANDARD
BEGIN:DAYLIGHT
TZOFFSETFROM:+0100
TZOFFSETTO:+0200
TZNAME:CEST
DTSTART:20250330T010000
END:DAYLIGHT
BEGIN:STANDARD
TZOFFSETFROM:+0200
TZOFFSETTO:+0100
TZNAME:CET
DTSTART:20251026T010000
END:STANDARD
END:VTIMEZONE
BEGIN:VEVENT
DTSTART;TZID=Europe/Paris:20240930T080000
DTEND;TZID=Europe/Paris:20241006T200000
DTSTAMP:20260421T161323
CREATED:20240925T074515Z
LAST-MODIFIED:20240925T074614Z
UID:18668-1727683200-1728244800@villedehaisnes.fr
SUMMARY:La Semaine Bleue
DESCRIPTION:Semaine bleue : « Bouger ensemble… pour entretenir la flamme ! » \n\n\n\nLa semaine bleue a lieu du 30 septembre au 6 octobre 2024. Retrouvez l’ensemble du programme ci-dessous :
URL:https://villedehaisnes.fr/evenement/la-semaine-bleue-2/
CATEGORIES:Evénement communale,Prévention,Sport - Santé
ATTACH;FMTTYPE=image/jpeg:https://villedehaisnes.fr/wp-content/uploads/2024/09/semaine-bleue.jpg
END:VEVENT
BEGIN:VEVENT
DTSTART;TZID=Europe/Paris:20241009T083000
DTEND;TZID=Europe/Paris:20241018T170000
DTSTAMP:20260421T161323
CREATED:20240930T094338Z
LAST-MODIFIED:20240930T094342Z
UID:18991-1728462600-1729270800@villedehaisnes.fr
SUMMARY:Exposition "Des sacrifices et des Résistants"
DESCRIPTION:Conçue et réalisée par les membres du Conseil Municipal des Jeunes \n\n\n\nLabellisée par l’Office National des Anciens Combattants & Victimes de Guerre
URL:https://villedehaisnes.fr/evenement/exposition-des-sacrifices-et-des-resistants/
LOCATION:Salle d’Honneur\, Place Potel\, Haisnes\, 62138
CATEGORIES:Evénement communale
ATTACH;FMTTYPE=image/png:https://villedehaisnes.fr/wp-content/uploads/2024/09/Exposition-CMJ.png
ORGANIZER;CN="Mairie de Haisnes":MAILTO:contact@ville-haisnes.fr
END:VEVENT
BEGIN:VEVENT
DTSTART;TZID=Europe/Paris:20241012T140000
DTEND;TZID=Europe/Paris:20241012T170000
DTSTAMP:20260421T161323
CREATED:20240925T075737Z
LAST-MODIFIED:20240925T081653Z
UID:18672-1728741600-1728752400@villedehaisnes.fr
SUMMARY:Octobre Rose : COLOR MARCHE
DESCRIPTION:
URL:https://villedehaisnes.fr/evenement/octobre-rose-color-marche/
LOCATION:Salle Edmond Tanière\, rue de l'Yser\, HAISNES\, 62138
CATEGORIES:Evénement communale,Sport - Santé
ATTACH;FMTTYPE=image/png:https://villedehaisnes.fr/wp-content/uploads/2024/09/affiche_color_walking_marche_rose_12.10.24.png
END:VEVENT
BEGIN:VEVENT
DTSTART;TZID=Europe/Paris:20241012T140000
DTEND;TZID=Europe/Paris:20241012T180000
DTSTAMP:20260421T161323
CREATED:20240925T081115Z
LAST-MODIFIED:20240925T081117Z
UID:18685-1728741600-1728756000@villedehaisnes.fr
SUMMARY:Hallow'Haisnes 2024
DESCRIPTION:
URL:https://villedehaisnes.fr/evenement/hallowhaisnes-2024/
LOCATION:Salle O. DANCOISNE – Rue Roger Salengro – 62138 HAISNES\, Rue Roger Salengro\, HAISNES\, 62138\, France
CATEGORIES:Association
ATTACH;FMTTYPE=image/jpeg:https://villedehaisnes.fr/wp-content/uploads/2024/09/HallowHaisnes-2024.jpeg
END:VEVENT
BEGIN:VEVENT
DTSTART;TZID=Europe/Paris:20241012T190000
DTEND;TZID=Europe/Paris:20241012T220000
DTSTAMP:20260421T161323
CREATED:20240925T080150Z
LAST-MODIFIED:20240925T080152Z
UID:18675-1728759600-1728770400@villedehaisnes.fr
SUMMARY:Soirée dansante avec les associations de danses de la commune
DESCRIPTION:
URL:https://villedehaisnes.fr/evenement/soiree-dansante-avec-les-associations-de-danses-de-la-commune/
LOCATION:Salle Edmond Tanière\, rue de l'Yser\, HAISNES\, 62138
CATEGORIES:Association,Evénement communale,Sport - Santé
ATTACH;FMTTYPE=image/jpeg:https://villedehaisnes.fr/wp-content/uploads/2024/09/octobre-rose-2.jpg
END:VEVENT
BEGIN:VEVENT
DTSTART;TZID=Europe/Paris:20241014T100000
DTEND;TZID=Europe/Paris:20241018T120000
DTSTAMP:20260421T161323
CREATED:20241010T071222Z
LAST-MODIFIED:20241010T071225Z
UID:19639-1728900000-1729252800@villedehaisnes.fr
SUMMARY:Portes-Ouvertes France Services
DESCRIPTION:
URL:https://villedehaisnes.fr/evenement/portes-ouvertes-france-services-2/
LOCATION:Maison France Services\, Place Elie Reumaux\, Haisnes\, 62138
CATEGORIES:Evénement communale,France Services
ATTACH;FMTTYPE=image/png:https://villedehaisnes.fr/wp-content/uploads/2024/10/programme.png
ORGANIZER;CN="France Services de HAISNES":MAILTO:franceservices@ville-haisnes.fr
END:VEVENT
BEGIN:VEVENT
DTSTART;TZID=Europe/Paris:20241016T093000
DTEND;TZID=Europe/Paris:20241016T160000
DTSTAMP:20260421T161323
CREATED:20241010T071423Z
LAST-MODIFIED:20241010T071425Z
UID:19645-1729071000-1729094400@villedehaisnes.fr
SUMMARY:Conférence sur le Harcèlement
DESCRIPTION:
URL:https://villedehaisnes.fr/evenement/conference-sur-le-harcelement/
LOCATION:Maison France Services\, Place Elie Reumaux\, Haisnes\, 62138
CATEGORIES:Evénement communale,France Services
ATTACH;FMTTYPE=image/png:https://villedehaisnes.fr/wp-content/uploads/2024/10/Mercredi-16-octobre-2024-conferene-harcelement.png
ORGANIZER;CN="France Services de HAISNES":MAILTO:franceservices@ville-haisnes.fr
END:VEVENT
BEGIN:VEVENT
DTSTART;TZID=Europe/Paris:20241019T190000
DTEND;TZID=Europe/Paris:20241019T233000
DTSTAMP:20260421T161323
CREATED:20240925T080815Z
LAST-MODIFIED:20240925T080816Z
UID:18679-1729364400-1729380600@villedehaisnes.fr
SUMMARY:Grande soirée Défilé - Danses & Chants
DESCRIPTION:octobre 19 / 19hh00 – 23hh30
URL:https://villedehaisnes.fr/evenement/grande-soiree-defile-danses-chants/
LOCATION:Salle O. DANCOISNE – Rue Roger Salengro – 62138 HAISNES\, Rue Roger Salengro\, HAISNES\, 62138\, France
CATEGORIES:Association,Evénement communale,Prévention,Sport - Santé
ATTACH;FMTTYPE=image/jpeg:https://villedehaisnes.fr/wp-content/uploads/2024/09/octobre-rose-3.jpg
END:VEVENT
BEGIN:VEVENT
DTSTART;TZID=Europe/Paris:20241025T180000
DTEND;TZID=Europe/Paris:20241025T220000
DTSTAMP:20260421T161323
CREATED:20241009T064454Z
LAST-MODIFIED:20241009T064457Z
UID:19552-1729879200-1729893600@villedehaisnes.fr
SUMMARY:Concours de Belote - Comité des Fêtes
DESCRIPTION:
URL:https://villedehaisnes.fr/evenement/concours-de-belote-comite-des-fetes-2/
LOCATION:Salle O. DANCOISNE – Rue Roger Salengro – 62138 HAISNES\, Rue Roger Salengro\, HAISNES\, 62138\, France
CATEGORIES:Association,Comité des Fêtes
ATTACH;FMTTYPE=image/jpeg:https://villedehaisnes.fr/wp-content/uploads/2024/10/concours-de-belote.jpg
END:VEVENT
BEGIN:VEVENT
DTSTART;TZID=Europe/Paris:20241026T160000
DTEND;TZID=Europe/Paris:20241026T180000
DTSTAMP:20260421T161323
CREATED:20241009T120722Z
LAST-MODIFIED:20241009T120725Z
UID:19586-1729958400-1729965600@villedehaisnes.fr
SUMMARY:HALLOWEEN - Famille de Mamans
DESCRIPTION:
URL:https://villedehaisnes.fr/evenement/halloween-famille-de-mamans/
LOCATION:Salle E. Tanière\, Rue de l'Yser\, HAISNES
CATEGORIES:Association
ATTACH;FMTTYPE=image/jpeg:https://villedehaisnes.fr/wp-content/uploads/2024/09/hallowwen-famille-de-mamans-1.jpg
END:VEVENT
BEGIN:VEVENT
DTSTART;TZID=Europe/Paris:20241027T120000
DTEND;TZID=Europe/Paris:20241027T190000
DTSTAMP:20260421T161323
CREATED:20241009T064111Z
LAST-MODIFIED:20241009T121113Z
UID:19550-1730030400-1730055600@villedehaisnes.fr
SUMMARY:Soirée Moules Frites - Comité des Fêtes
DESCRIPTION:
URL:https://villedehaisnes.fr/evenement/soiree-moules-frites-comite-des-fetes/
LOCATION:Salle O. DANCOISNE – Rue Roger Salengro – 62138 HAISNES\, Rue Roger Salengro\, HAISNES\, 62138\, France
CATEGORIES:Association,Comité des Fêtes
ATTACH;FMTTYPE=image/jpeg:https://villedehaisnes.fr/wp-content/uploads/2024/10/frites-moules.jpg
END:VEVENT
BEGIN:VEVENT
DTSTART;TZID=Europe/Paris:20241031T140000
DTEND;TZID=Europe/Paris:20241031T170000
DTSTAMP:20260421T161323
CREATED:20241010T115544Z
LAST-MODIFIED:20241010T115548Z
UID:19649-1730383200-1730394000@villedehaisnes.fr
SUMMARY:Halloween - CAJ
DESCRIPTION:
URL:https://villedehaisnes.fr/evenement/halloween-caj/
LOCATION:CAJ\, Haisnes\, 62138
CATEGORIES:CAJ,Evénement communale,Jeunesse
ATTACH;FMTTYPE=image/jpeg:https://villedehaisnes.fr/wp-content/uploads/2024/10/Halloween-A5-2024-1.jpg
END:VEVENT
END:VCALENDAR