BEGIN:VCALENDAR
VERSION:2.0
PRODID:-//Ville de Haisnes - ECPv6.15.20//NONSGML v1.0//EN
CALSCALE:GREGORIAN
METHOD:PUBLISH
X-ORIGINAL-URL:https://villedehaisnes.fr
X-WR-CALDESC:Évènements pour Ville de Haisnes
REFRESH-INTERVAL;VALUE=DURATION:PT1H
X-Robots-Tag:noindex
X-PUBLISHED-TTL:PT1H
BEGIN:VTIMEZONE
TZID:Europe/Paris
BEGIN:DAYLIGHT
TZOFFSETFROM:+0100
TZOFFSETTO:+0200
TZNAME:CEST
DTSTART:20230326T010000
END:DAYLIGHT
BEGIN:STANDARD
TZOFFSETFROM:+0200
TZOFFSETTO:+0100
TZNAME:CET
DTSTART:20231029T010000
END:STANDARD
BEGIN:DAYLIGHT
TZOFFSETFROM:+0100
TZOFFSETTO:+0200
TZNAME:CEST
DTSTART:20240331T010000
END:DAYLIGHT
BEGIN:STANDARD
TZOFFSETFROM:+0200
TZOFFSETTO:+0100
TZNAME:CET
DTSTART:20241027T010000
END:STANDARD
BEGIN:DAYLIGHT
TZOFFSETFROM:+0100
TZOFFSETTO:+0200
TZNAME:CEST
DTSTART:20250330T010000
END:DAYLIGHT
BEGIN:STANDARD
TZOFFSETFROM:+0200
TZOFFSETTO:+0100
TZNAME:CET
DTSTART:20251026T010000
END:STANDARD
END:VTIMEZONE
BEGIN:VEVENT
DTSTART;TZID=Europe/Paris:20241201T100000
DTEND;TZID=Europe/Paris:20241201T130000
DTSTAMP:20260421T131048
CREATED:20241106T105304Z
LAST-MODIFIED:20241106T105306Z
UID:20871-1733047200-1733058000@villedehaisnes.fr
SUMMARY:Randonnée solidaire - RANDOSARTOIS
DESCRIPTION:
URL:https://villedehaisnes.fr/evenement/randonnee-solidaire-randosartois/
LOCATION:Salle Georges Brassens – Haisnes\, rue Georges Brassens\, Haisnes\, 62138\, France
CATEGORIES:Association
ATTACH;FMTTYPE=image/png:https://villedehaisnes.fr/wp-content/uploads/2024/11/affiche_telethon_randosartois_01.12.24.png
ORGANIZER;CN="RANDOSARTOIS":MAILTO:contact@associations62.org
END:VEVENT
BEGIN:VEVENT
DTSTART;TZID=Europe/Paris:20241207T100000
DTEND;TZID=Europe/Paris:20241207T120000
DTSTAMP:20260421T131048
CREATED:20241106T104937Z
LAST-MODIFIED:20241106T104940Z
UID:20828-1733565600-1733572800@villedehaisnes.fr
SUMMARY:Conférence - Débat avec l'Association Faites la République !
DESCRIPTION:
URL:https://villedehaisnes.fr/evenement/conference-debat-avec-lassociation-faites-la-republique/
LOCATION:Salle ex-colombophile\, Rue de Douaumont\, Haisnes\, France
CATEGORIES:Association
ATTACH;FMTTYPE=image/png:https://villedehaisnes.fr/wp-content/uploads/2024/11/affiche_cd_laicite_cc62_flr_07.12.24.png
END:VEVENT
BEGIN:VEVENT
DTSTART;TZID=Europe/Paris:20241214T100000
DTEND;TZID=Europe/Paris:20241215T190000
DTSTAMP:20260421T131048
CREATED:20241126T090242Z
LAST-MODIFIED:20241126T090244Z
UID:22291-1734170400-1734289200@villedehaisnes.fr
SUMMARY:Marché de Noël - Sapeurs-Pompiers Haisnes-Vermelles
DESCRIPTION:
URL:https://villedehaisnes.fr/evenement/marche-de-noel-sapeurs-pompiers-haisnes-vermelles/
LOCATION:105 rue Simone de Beauvoir – Haisnes\, 105 rue Simone de Beauvoir\, Haisnes\, 62138
CATEGORIES:Association
ATTACH;FMTTYPE=image/jpeg:https://villedehaisnes.fr/wp-content/uploads/2024/11/462546705_1360577384914035_4958406574122800302_n.jpg
ORGANIZER;CN="l'Amicale des Sapeurs-Pompiers Haisnes-Vermelles":MAILTO:amicalehve@gmail.com
END:VEVENT
BEGIN:VEVENT
DTSTART;TZID=Europe/Paris:20241215T080000
DTEND;TZID=Europe/Paris:20241215T170000
DTSTAMP:20260421T131048
CREATED:20241126T090614Z
LAST-MODIFIED:20241126T090616Z
UID:22297-1734249600-1734282000@villedehaisnes.fr
SUMMARY:Compétition Interne Gym - Haisnes R'Gym
DESCRIPTION:
URL:https://villedehaisnes.fr/evenement/competition-interne-gym-haisnes-rgym/
LOCATION:Salle G. Brassens\, Rue Georges Brassens\, Haisnes\, 62138
CATEGORIES:Association
ATTACH;FMTTYPE=image/jpeg:https://villedehaisnes.fr/wp-content/uploads/2024/11/466047782_611374937893722_4033431439389914056_n.jpg
END:VEVENT
BEGIN:VEVENT
DTSTART;TZID=Europe/Paris:20241215T150000
DTEND;TZID=Europe/Paris:20241215T210000
DTSTAMP:20260421T131048
CREATED:20241202T092153Z
LAST-MODIFIED:20241202T092158Z
UID:22713-1734274800-1734296400@villedehaisnes.fr
SUMMARY:Fight Arena - Team Origlia
DESCRIPTION:
URL:https://villedehaisnes.fr/evenement/fight-arena-team-origlia/
LOCATION:Salle des sports QUEVA\, rue roger salengro\, Haisnes\, 62138\, France
CATEGORIES:Association
ATTACH;FMTTYPE=image/jpeg:https://villedehaisnes.fr/wp-content/uploads/2024/12/468336363_1967038600470530_2919973630580085709_n-2.jpg
END:VEVENT
BEGIN:VEVENT
DTSTART;TZID=Europe/Paris:20241217T170000
DTEND;TZID=Europe/Paris:20241217T200000
DTSTAMP:20260421T131048
CREATED:20241216T133742Z
LAST-MODIFIED:20241216T133746Z
UID:23526-1734454800-1734465600@villedehaisnes.fr
SUMMARY:Marché de Noël Jules Andrieu
DESCRIPTION:
URL:https://villedehaisnes.fr/evenement/marche-de-noel-jules-andrieu/
LOCATION:Salle O. DANCOISNE – Rue Roger Salengro – 62138 HAISNES\, Rue Roger Salengro\, HAISNES\, 62138\, France
CATEGORIES:Association,Jeunesse
ATTACH;FMTTYPE=image/jpeg:https://villedehaisnes.fr/wp-content/uploads/2024/12/marche-de-noel-J.-Andrieu-4.jpg
END:VEVENT
BEGIN:VEVENT
DTSTART;TZID=Europe/Paris:20241219T163000
DTEND;TZID=Europe/Paris:20241219T190000
DTSTAMP:20260421T131048
CREATED:20241216T134310Z
LAST-MODIFIED:20241216T134311Z
UID:23534-1734625800-1734634800@villedehaisnes.fr
SUMMARY:Marché de Noël - école Papillon
DESCRIPTION:
URL:https://villedehaisnes.fr/evenement/marche-de-noel-ecole-papillon/
CATEGORIES:Jeunesse
ATTACH;FMTTYPE=image/png:https://villedehaisnes.fr/wp-content/uploads/2024/12/marche-de-noel-papillon-3.png
END:VEVENT
BEGIN:VEVENT
DTSTART;TZID=Europe/Paris:20241222T133000
DTEND;TZID=Europe/Paris:20241222T190000
DTSTAMP:20260421T131048
CREATED:20241126T091426Z
LAST-MODIFIED:20241126T091428Z
UID:22303-1734874200-1734894000@villedehaisnes.fr
SUMMARY:Descente du Père-Noël
DESCRIPTION:
URL:https://villedehaisnes.fr/evenement/descente-du-pere-noel/
CATEGORIES:Evénement communale
ATTACH;FMTTYPE=image/png:https://villedehaisnes.fr/wp-content/uploads/2024/11/descente-du-pere-noel-2024.png
END:VEVENT
BEGIN:VEVENT
DTSTART;TZID=Europe/Paris:20241231T193000
DTEND;TZID=Europe/Paris:20241231T233000
DTSTAMP:20260421T131048
CREATED:20241021T085905Z
LAST-MODIFIED:20241021T085936Z
UID:20049-1735673400-1735687800@villedehaisnes.fr
SUMMARY:Réveillon Saint-Sylvestre - ES HAISNES
DESCRIPTION:
URL:https://villedehaisnes.fr/evenement/reveillon-saint-sylvestre-es-haisnes/
LOCATION:Salle O. DANCOISNE – Rue Roger Salengro – 62138 HAISNES\, Rue Roger Salengro\, HAISNES\, 62138\, France
CATEGORIES:Association
ATTACH;FMTTYPE=image/jpeg:https://villedehaisnes.fr/wp-content/uploads/2024/10/Reveillon-ESH-1.jpg
END:VEVENT
END:VCALENDAR