BEGIN:VCALENDAR
VERSION:2.0
PRODID:-//Ville de Haisnes - ECPv6.15.20//NONSGML v1.0//EN
CALSCALE:GREGORIAN
METHOD:PUBLISH
X-ORIGINAL-URL:https://villedehaisnes.fr
X-WR-CALDESC:Évènements pour Ville de Haisnes
REFRESH-INTERVAL;VALUE=DURATION:PT1H
X-Robots-Tag:noindex
X-PUBLISHED-TTL:PT1H
BEGIN:VTIMEZONE
TZID:Europe/Paris
BEGIN:DAYLIGHT
TZOFFSETFROM:+0100
TZOFFSETTO:+0200
TZNAME:CEST
DTSTART:20240331T010000
END:DAYLIGHT
BEGIN:STANDARD
TZOFFSETFROM:+0200
TZOFFSETTO:+0100
TZNAME:CET
DTSTART:20241027T010000
END:STANDARD
BEGIN:DAYLIGHT
TZOFFSETFROM:+0100
TZOFFSETTO:+0200
TZNAME:CEST
DTSTART:20250330T010000
END:DAYLIGHT
BEGIN:STANDARD
TZOFFSETFROM:+0200
TZOFFSETTO:+0100
TZNAME:CET
DTSTART:20251026T010000
END:STANDARD
BEGIN:DAYLIGHT
TZOFFSETFROM:+0100
TZOFFSETTO:+0200
TZNAME:CEST
DTSTART:20260329T010000
END:DAYLIGHT
BEGIN:STANDARD
TZOFFSETFROM:+0200
TZOFFSETTO:+0100
TZNAME:CET
DTSTART:20261025T010000
END:STANDARD
END:VTIMEZONE
BEGIN:VEVENT
DTSTART;TZID=Europe/Paris:20250103T180000
DTEND;TZID=Europe/Paris:20250103T210000
DTSTAMP:20260421T114236
CREATED:20240925T083527Z
LAST-MODIFIED:20240925T083625Z
UID:18714-1735927200-1735938000@villedehaisnes.fr
SUMMARY:Concours de belote - Amicale des Pêcheurs
DESCRIPTION:
URL:https://villedehaisnes.fr/evenement/concours-de-belote-amicale-des-pecheurs/
LOCATION:Salle Edmond Tanière\, rue de l'Yser\, HAISNES\, 62138
CATEGORIES:Association
ATTACH;FMTTYPE=image/jpeg:https://villedehaisnes.fr/wp-content/uploads/2024/09/amicale-des-pecheurs-1.jpg
END:VEVENT
BEGIN:VEVENT
DTSTART;TZID=Europe/Paris:20250105T120000
DTEND;TZID=Europe/Paris:20250105T180000
DTSTAMP:20260421T114236
CREATED:20240925T083325Z
LAST-MODIFIED:20240925T083327Z
UID:18698-1736078400-1736100000@villedehaisnes.fr
SUMMARY:Repas dansant - Amicale des Pêcheurs
DESCRIPTION:
URL:https://villedehaisnes.fr/evenement/repas-dansant-amicale-des-pecheurs/
LOCATION:Local des Pêcheurs\, La Fosse 6\, Haisnes\, 62138
CATEGORIES:Association
ATTACH;FMTTYPE=image/jpeg:https://villedehaisnes.fr/wp-content/uploads/2024/09/amicale-des-pecheurs-2.jpg
END:VEVENT
BEGIN:VEVENT
DTSTART;TZID=Europe/Paris:20250111T130000
DTEND;TZID=Europe/Paris:20250111T200000
DTSTAMP:20260421T114236
CREATED:20241108T095726Z
LAST-MODIFIED:20241108T095731Z
UID:21090-1736600400-1736625600@villedehaisnes.fr
SUMMARY:Méga Loto - APE des grandes canailles
DESCRIPTION:
URL:https://villedehaisnes.fr/evenement/mega-loto-ape-des-grandes-canailles-2/
LOCATION:Salle O. DANCOISNE – Rue Roger Salengro – 62138 HAISNES\, Rue Roger Salengro\, HAISNES\, 62138\, France
CATEGORIES:Association
ATTACH;FMTTYPE=image/jpeg:https://villedehaisnes.fr/wp-content/uploads/2024/11/465904584_1079126816923429_7232191576461104221_n.jpg
END:VEVENT
BEGIN:VEVENT
DTSTART;TZID=Europe/Paris:20250117T180000
DTEND;TZID=Europe/Paris:20250117T210000
DTSTAMP:20260421T114236
CREATED:20250106T091804Z
LAST-MODIFIED:20250106T091807Z
UID:24608-1737136800-1737147600@villedehaisnes.fr
SUMMARY:Cérémonie des Vœux au Maire
DESCRIPTION:
URL:https://villedehaisnes.fr/evenement/ceremonie-des-voeux-au-maire/
LOCATION:Salle O. DANCOISNE – Rue Roger Salengro – 62138 HAISNES\, Rue Roger Salengro\, HAISNES\, 62138\, France
CATEGORIES:2025,Evénement communale
ATTACH;FMTTYPE=image/png:https://villedehaisnes.fr/wp-content/uploads/2025/01/ceremonie-des-voeux-2025-2.png
ORGANIZER;CN="Mairie de Haisnes":MAILTO:contact@ville-haisnes.fr
END:VEVENT
BEGIN:VEVENT
DTSTART;TZID=Europe/Paris:20250125T190000
DTEND;TZID=Europe/Paris:20250125T233000
DTSTAMP:20260421T114236
CREATED:20250106T085200Z
LAST-MODIFIED:20250106T085204Z
UID:24599-1737831600-1737847800@villedehaisnes.fr
SUMMARY:Repas dansant annuel - AIH DANSE
DESCRIPTION:
URL:https://villedehaisnes.fr/evenement/repas-dansant-annuel-aih-danse-2/
LOCATION:Salle O. DANCOISNE – Rue Roger Salengro – 62138 HAISNES\, Rue Roger Salengro\, HAISNES\, 62138\, France
CATEGORIES:2025,Association
ATTACH;FMTTYPE=image/jpeg:https://villedehaisnes.fr/wp-content/uploads/2025/01/repas-dansant-AIH-Danse-1.jpg
END:VEVENT
END:VCALENDAR